BEGIN:VCALENDAR
PRODID:-//Microsoft Corporation//Outlook 12.0 MIMEDIR//EN
VERSION:2.0
METHOD:PUBLISH
X-MS-OLK-FORCEINSPECTOROPEN:TRUE
BEGIN:VEVENT
CLASS:PUBLIC
CREATED:20140923T023134
DESCRIPTION:Art in Odd Places Number Festival on 14th St.\n\nMarieke Warmelink & Domenique Himmelschbach de Vries | Embassy of Good Will, One Hour of Free Help\n\nSee www.artinoddplaces.org/number/artists/warmelink-marieke-domenique-himmelschbach-de-vries for more info
DTEND:20141012T000000
DTSTAMP:20140923T023134
DTSTART:20141007T000000
LAST-MODIFIED:20150908T174628
LOCATION:http://maps.google.com/maps?q=40.73483602685421+-73.99078488349915\n\n<p>Union Square, on each day of festival from 2-4pm. The artists are present during the build up of the mobile monument and happy to answer questions and share experiences.</p>

PRIORITY:5
SEQUENCE:0
SUMMARY;LANGUAGE=en-us:Marieke Warmelink & Domenique Himmelschbach de Vries | Embassy of Good Will, One Hour of Free Help
TRANSP:OPAQUE
UID:040000008200E00074C5B7101A82E008000000008062306C6261CA01000000000000000
X-MICROSOFT-CDO-BUSYSTATUS:BUSY
X-MICROSOFT-CDO-IMPORTANCE:1
X-MICROSOFT-DISALLOW-COUNTER:FALSE
X-MS-OLK-ALLOWEXTERNCHECK:TRUE
X-MS-OLK-AUTOFILLLOCATION:FALSE
X-MS-OLK-CONFTYPE:0
BEGIN:VALARM
TRIGGER:-PT1440M
ACTION:DISPLAY
DESCRIPTION:Reminder
END:VALARM
END:VEVENT
END:VCALENDAR
