BEGIN:VCALENDAR
PRODID:-//Microsoft Corporation//Outlook 12.0 MIMEDIR//EN
VERSION:2.0
METHOD:PUBLISH
X-MS-OLK-FORCEINSPECTOROPEN:TRUE
BEGIN:VEVENT
CLASS:PUBLIC
CREATED:20150908T175513
DESCRIPTION:Art in Odd Places Number Festival on 14th St.\n\nNobutaka Aozaki | Looking for Your Smile Bag\n\nSee www.artinoddplaces.org/number/artists/aozaki-nobutaka for more info
DTEND:20141012T000000
DTSTAMP:20150908T175513
DTSTART:20141007T000000
LAST-MODIFIED:20150908T175513
LOCATION:http://maps.google.com/maps?q=40.740981753648505+-74.00532245635986\n\n<p>14th Street and Union Square West, 14th Street and Eighth Avenue, 14th Street and Ninth Avenue. Throughout the festival.</p>

PRIORITY:5
SEQUENCE:0
SUMMARY;LANGUAGE=en-us:Nobutaka Aozaki | Looking for Your Smile Bag
TRANSP:OPAQUE
UID:040000008200E00074C5B7101A82E008000000008062306C6261CA01000000000000000
X-MICROSOFT-CDO-BUSYSTATUS:BUSY
X-MICROSOFT-CDO-IMPORTANCE:1
X-MICROSOFT-DISALLOW-COUNTER:FALSE
X-MS-OLK-ALLOWEXTERNCHECK:TRUE
X-MS-OLK-AUTOFILLLOCATION:FALSE
X-MS-OLK-CONFTYPE:0
BEGIN:VALARM
TRIGGER:-PT1440M
ACTION:DISPLAY
DESCRIPTION:Reminder
END:VALARM
END:VEVENT
END:VCALENDAR
