BEGIN:VCALENDAR
PRODID:-//Microsoft Corporation//Outlook 12.0 MIMEDIR//EN
VERSION:2.0
METHOD:PUBLISH
X-MS-OLK-FORCEINSPECTOROPEN:TRUE
BEGIN:VEVENT
CLASS:PUBLIC
CREATED:20150908T181659
DESCRIPTION:Art in Odd Places Number Festival on 14th St.\n\nMichael Paul Britto | The Brown Man Experience\n\nSee www.artinoddplaces.org/number/artists/britto-michael-paul for more info
DTEND:20141011T000000
DTSTAMP:20150908T181659
DTSTART:20141009T000000
LAST-MODIFIED:20150908T182048
LOCATION:http://maps.google.com/maps?q=40.73516121180963+-73.99145007133484\n\n<p>Roving along 14th Street, starting at Union Square Park and heading west, before turning around and working his way towards the FDR. Friday and Saturday, October 10 and 11, from 12-4pm.</p>

PRIORITY:5
SEQUENCE:0
SUMMARY;LANGUAGE=en-us:Michael Paul Britto | The Brown Man Experience
TRANSP:OPAQUE
UID:040000008200E00074C5B7101A82E008000000008062306C6261CA01000000000000000
X-MICROSOFT-CDO-BUSYSTATUS:BUSY
X-MICROSOFT-CDO-IMPORTANCE:1
X-MICROSOFT-DISALLOW-COUNTER:FALSE
X-MS-OLK-ALLOWEXTERNCHECK:TRUE
X-MS-OLK-AUTOFILLLOCATION:FALSE
X-MS-OLK-CONFTYPE:0
BEGIN:VALARM
TRIGGER:-PT1440M
ACTION:DISPLAY
DESCRIPTION:Reminder
END:VALARM
END:VEVENT
END:VCALENDAR
