BEGIN:VCALENDAR
PRODID:-//Microsoft Corporation//Outlook 12.0 MIMEDIR//EN
VERSION:2.0
METHOD:PUBLISH
X-MS-OLK-FORCEINSPECTOROPEN:TRUE
BEGIN:VEVENT
CLASS:PUBLIC
CREATED:20150908T184910
DESCRIPTION:Art in Odd Places Number Festival on 14th St.\n\nNicholas Fraser | Draft\n\nSee www.artinoddplaces.org/number/artists/fraser-nicholas for more info
DTEND:20141012T000000
DTSTAMP:20150908T184910
DTSTART:20141007T000000
LAST-MODIFIED:20151001T195644
LOCATION:http://maps.google.com/maps?q=40.739722627587895+-74.00232571003414\n\n<p>Scaffolding along 14th Street between Sixth and Eighth Avenues. Throughout the festival.</p>

PRIORITY:5
SEQUENCE:0
SUMMARY;LANGUAGE=en-us:Nicholas Fraser | Draft
TRANSP:OPAQUE
UID:040000008200E00074C5B7101A82E008000000008062306C6261CA01000000000000000
X-MICROSOFT-CDO-BUSYSTATUS:BUSY
X-MICROSOFT-CDO-IMPORTANCE:1
X-MICROSOFT-DISALLOW-COUNTER:FALSE
X-MS-OLK-ALLOWEXTERNCHECK:TRUE
X-MS-OLK-AUTOFILLLOCATION:FALSE
X-MS-OLK-CONFTYPE:0
BEGIN:VALARM
TRIGGER:-PT1440M
ACTION:DISPLAY
DESCRIPTION:Reminder
END:VALARM
END:VEVENT
END:VCALENDAR
