BEGIN:VCALENDAR
PRODID:-//Microsoft Corporation//Outlook 12.0 MIMEDIR//EN
VERSION:2.0
METHOD:PUBLISH
X-MS-OLK-FORCEINSPECTOROPEN:TRUE
BEGIN:VEVENT
CLASS:PUBLIC
CREATED:20150909T043505
DESCRIPTION:Art in Odd Places Number Festival on 14th St.\n\nLawrence Graham-Brown | Game: Hunt, Capture, Kill\n\nSee www.artinoddplaces.org/number/artists/graham-brown-lawrence for more info
DTEND:20141012T000000
DTSTAMP:20150909T043505
DTSTART:20141011T000000
LAST-MODIFIED:20150909T043505
LOCATION:http://maps.google.com/maps?q=40.7350636564899+-73.99113893508911\n\n<p>On the steps in Union Square on Sunday, October 11 from 2-4pm.</p>

PRIORITY:5
SEQUENCE:0
SUMMARY;LANGUAGE=en-us:Lawrence Graham-Brown | Game: Hunt, Capture, Kill
TRANSP:OPAQUE
UID:040000008200E00074C5B7101A82E008000000008062306C6261CA01000000000000000
X-MICROSOFT-CDO-BUSYSTATUS:BUSY
X-MICROSOFT-CDO-IMPORTANCE:1
X-MICROSOFT-DISALLOW-COUNTER:FALSE
X-MS-OLK-ALLOWEXTERNCHECK:TRUE
X-MS-OLK-AUTOFILLLOCATION:FALSE
X-MS-OLK-CONFTYPE:0
BEGIN:VALARM
TRIGGER:-PT1440M
ACTION:DISPLAY
DESCRIPTION:Reminder
END:VALARM
END:VEVENT
END:VCALENDAR
