BEGIN:VCALENDAR
PRODID:-//Microsoft Corporation//Outlook 12.0 MIMEDIR//EN
VERSION:2.0
METHOD:PUBLISH
X-MS-OLK-FORCEINSPECTOROPEN:TRUE
BEGIN:VEVENT
CLASS:PUBLIC
CREATED:20150913T055520
DESCRIPTION:Art in Odd Places Number Festival on 14th St.\n\nLinda Hesh | Chance Meeting Doorknob Hangers\n\nSee www.artinoddplaces.org/number/artists/hesh-linda for more info
DTEND:20141011T000000
DTSTAMP:20150913T055520
DTSTART:20141007T000000
LAST-MODIFIED:20151001T173101
LOCATION:http://maps.google.com/maps?q=40.7418845+-74.00764290000001\n\n<p>Across 14th Street. Wednesday, October 7 and Saturday, October 10.</p>
<p>&nbsp;</p>
<p><a class="twitter-timeline"
 href="https://twitter.com/hashtag/heshdoorknob"
data-widget-id="649368728988217344">#heshdoorknob<br />
Tweets</a></p>
<p><script>!function(d,s,id){var
js,fjs=d.getElementsByTagName(s)[0],p=/^http:/.test(d.location)?'http':'https';if(!d.getElementById(id)){js=d.createElement(s);js.id=id;js.src=p+"://platform.twitter.com/widgets.js";fjs.parentNode.insertBefore(js,fjs);}}(document,"script","twitter-wjs");</script></p>
<p><!-- SnapWidget --><br />
<script src="http://snapwidget.com/js/snapwidget.js"></script><br />
<iframe src="http://snapwidget.com/p/widget/?id=kEjd7678CH&#038;t=579" title="Instagram Widget" class="snapwidget-widget" allowTransparency="true" frameborder="0" scrolling="no" style="border:none; overflow:hidden; width:100%;"></iframe></p>

PRIORITY:5
SEQUENCE:0
SUMMARY;LANGUAGE=en-us:Linda Hesh | Chance Meeting Doorknob Hangers
TRANSP:OPAQUE
UID:040000008200E00074C5B7101A82E008000000008062306C6261CA01000000000000000
X-MICROSOFT-CDO-BUSYSTATUS:BUSY
X-MICROSOFT-CDO-IMPORTANCE:1
X-MICROSOFT-DISALLOW-COUNTER:FALSE
X-MS-OLK-ALLOWEXTERNCHECK:TRUE
X-MS-OLK-AUTOFILLLOCATION:FALSE
X-MS-OLK-CONFTYPE:0
BEGIN:VALARM
TRIGGER:-PT1440M
ACTION:DISPLAY
DESCRIPTION:Reminder
END:VALARM
END:VEVENT
END:VCALENDAR
