BEGIN:VCALENDAR
PRODID:-//Microsoft Corporation//Outlook 12.0 MIMEDIR//EN
VERSION:2.0
METHOD:PUBLISH
X-MS-OLK-FORCEINSPECTOROPEN:TRUE
BEGIN:VEVENT
CLASS:PUBLIC
CREATED:20150915T200410
DESCRIPTION:Art in Odd Places Number Festival on 14th St.\n\nYoko Inoue | 18 Minute Interval Swipe\n\nSee www.artinoddplaces.org/number/artists/inoue-yoko for more info
DTEND:20141011T000000
DTSTAMP:20150915T200410
DTSTART:20141009T000000
LAST-MODIFIED:20150915T200410
LOCATION:http://maps.google.com/maps?q=40.737128546893146+-73.99688959121704\n\n<p>14th Street and Sixth Avenue, street level at the Path/F/L subway station, on Friday, October 9 during AM/PM rush hours. Union Square Station, street level on Saturday, October 10 from 10am-4pm.</p>

PRIORITY:5
SEQUENCE:0
SUMMARY;LANGUAGE=en-us:Yoko Inoue | 18 Minute Interval Swipe
TRANSP:OPAQUE
UID:040000008200E00074C5B7101A82E008000000008062306C6261CA01000000000000000
X-MICROSOFT-CDO-BUSYSTATUS:BUSY
X-MICROSOFT-CDO-IMPORTANCE:1
X-MICROSOFT-DISALLOW-COUNTER:FALSE
X-MS-OLK-ALLOWEXTERNCHECK:TRUE
X-MS-OLK-AUTOFILLLOCATION:FALSE
X-MS-OLK-CONFTYPE:0
BEGIN:VALARM
TRIGGER:-PT1440M
ACTION:DISPLAY
DESCRIPTION:Reminder
END:VALARM
END:VEVENT
END:VCALENDAR
