BEGIN:VCALENDAR
PRODID:-//Microsoft Corporation//Outlook 12.0 MIMEDIR//EN
VERSION:2.0
METHOD:PUBLISH
X-MS-OLK-FORCEINSPECTOROPEN:TRUE
BEGIN:VEVENT
CLASS:PUBLIC
CREATED:20150915T200952
DESCRIPTION:Art in Odd Places Number Festival on 14th St.\n\nSam Jablon | Poet Sculpture\n\nSee www.artinoddplaces.org/number/artists/jablon-sam for more info
DTEND:20141012T000000
DTSTAMP:20150915T200952
DTSTART:20141011T000000
LAST-MODIFIED:20150927T171155
LOCATION:http://maps.google.com/maps?q=40.74196534239714+-74.0077793598175\n\n<p>Under The High Line, near the 14th Street entrance. Sunday, October 11 at 3pm.</p>

PRIORITY:5
SEQUENCE:0
SUMMARY;LANGUAGE=en-us:Sam Jablon | Poet Sculpture
TRANSP:OPAQUE
UID:040000008200E00074C5B7101A82E008000000008062306C6261CA01000000000000000
X-MICROSOFT-CDO-BUSYSTATUS:BUSY
X-MICROSOFT-CDO-IMPORTANCE:1
X-MICROSOFT-DISALLOW-COUNTER:FALSE
X-MS-OLK-ALLOWEXTERNCHECK:TRUE
X-MS-OLK-AUTOFILLLOCATION:FALSE
X-MS-OLK-CONFTYPE:0
BEGIN:VALARM
TRIGGER:-PT1440M
ACTION:DISPLAY
DESCRIPTION:Reminder
END:VALARM
END:VEVENT
END:VCALENDAR
