BEGIN:VCALENDAR
PRODID:-//Microsoft Corporation//Outlook 12.0 MIMEDIR//EN
VERSION:2.0
METHOD:PUBLISH
X-MS-OLK-FORCEINSPECTOROPEN:TRUE
BEGIN:VEVENT
CLASS:PUBLIC
CREATED:20150915T201909
DESCRIPTION:Art in Odd Places Number Festival on 14th St.\n\nTomashi Jackson | Untitled (CMYMe) (Alesia, Alberta, Tanisha, and Me)\n\nSee www.artinoddplaces.org/number/artists/jackson-tomashi for more info
DTEND:20141011T000000
DTSTAMP:20150915T201909
DTSTART:20141010T000000
LAST-MODIFIED:20150915T201909
LOCATION:http://maps.google.com/maps?q=40.7380726+-73.99898029999997\n\n<p>Saturday, October 10 at 1pm. Location TBD.</p>

PRIORITY:5
SEQUENCE:0
SUMMARY;LANGUAGE=en-us:Tomashi Jackson | Untitled (CMYMe) (Alesia, Alberta, Tanisha, and Me)
TRANSP:OPAQUE
UID:040000008200E00074C5B7101A82E008000000008062306C6261CA01000000000000000
X-MICROSOFT-CDO-BUSYSTATUS:BUSY
X-MICROSOFT-CDO-IMPORTANCE:1
X-MICROSOFT-DISALLOW-COUNTER:FALSE
X-MS-OLK-ALLOWEXTERNCHECK:TRUE
X-MS-OLK-AUTOFILLLOCATION:FALSE
X-MS-OLK-CONFTYPE:0
BEGIN:VALARM
TRIGGER:-PT1440M
ACTION:DISPLAY
DESCRIPTION:Reminder
END:VALARM
END:VEVENT
END:VCALENDAR
