BEGIN:VCALENDAR
PRODID:-//Microsoft Corporation//Outlook 12.0 MIMEDIR//EN
VERSION:2.0
METHOD:PUBLISH
X-MS-OLK-FORCEINSPECTOROPEN:TRUE
BEGIN:VEVENT
CLASS:PUBLIC
CREATED:20150915T205042
DESCRIPTION:Art in Odd Places Number Festival on 14th St.\n\nLuLu LoLo | Joan of Arc of 14th Street: Where are the Women?\n\nSee www.artinoddplaces.org/number/artists/lolo-lulu for more info
DTEND:20141012T000000
DTSTAMP:20150915T205042
DTSTART:20141009T000000
LAST-MODIFIED:20150915T223042
LOCATION:http://maps.google.com/maps?q=40.7385455+-74.00009399999999\n\n<p>At the Opening Reception on Friday, October 9. Saturday, October 10 and Sunday, October 11 from 1-1:30pm at the Jeanne d’Arc apartment building, 200 West 14th Street at Seventh Avenue; 1:30-2pm march on north side of 14th Street from Seventh Avenue to Union Square Park; 2-2:30pm on the southwest corner of Union Square and 14th Street, at University Place; 2:30-3pm at the Gandhi Statue on the southwest corner of Union Square Park.</p>

PRIORITY:5
SEQUENCE:0
SUMMARY;LANGUAGE=en-us:LuLu LoLo | Joan of Arc of 14th Street: Where are the Women?
TRANSP:OPAQUE
UID:040000008200E00074C5B7101A82E008000000008062306C6261CA01000000000000000
X-MICROSOFT-CDO-BUSYSTATUS:BUSY
X-MICROSOFT-CDO-IMPORTANCE:1
X-MICROSOFT-DISALLOW-COUNTER:FALSE
X-MS-OLK-ALLOWEXTERNCHECK:TRUE
X-MS-OLK-AUTOFILLLOCATION:FALSE
X-MS-OLK-CONFTYPE:0
BEGIN:VALARM
TRIGGER:-PT1440M
ACTION:DISPLAY
DESCRIPTION:Reminder
END:VALARM
END:VEVENT
END:VCALENDAR
