BEGIN:VCALENDAR
PRODID:-//Microsoft Corporation//Outlook 12.0 MIMEDIR//EN
VERSION:2.0
METHOD:PUBLISH
X-MS-OLK-FORCEINSPECTOROPEN:TRUE
BEGIN:VEVENT
CLASS:PUBLIC
CREATED:20150915T205533
DESCRIPTION:Art in Odd Places Number Festival on 14th St.\n\nLudiCity | Listening Posts\n\nSee www.artinoddplaces.org/number/artists/ludicity for more info
DTEND:20141012T000000
DTSTAMP:20150915T205533
DTSTART:20141010T000000
LAST-MODIFIED:20151003T195130
LOCATION:http://maps.google.com/maps?q=40.72842+-73.97639400000003\n\n<p>Saturday and Sunday, October 10 and 11 from 10am-5pm. Between First Avenue and Avenue C. <a href="https://www.google.com/maps/d/viewer?mid=zxb55XIbwlZ8.k_AFua5OQEtI">Click here</a> for specific locations.</p>
<p>Special thanks to the Greenwich Village Society for Historic Preservation for the use of selected recordings from their <a href="http://www.gvshp.org/_gvshp/resources/oral_his.htm">Oral History Preservation Project</a>.</p>

PRIORITY:5
SEQUENCE:0
SUMMARY;LANGUAGE=en-us:LudiCity | Listening Posts
TRANSP:OPAQUE
UID:040000008200E00074C5B7101A82E008000000008062306C6261CA01000000000000000
X-MICROSOFT-CDO-BUSYSTATUS:BUSY
X-MICROSOFT-CDO-IMPORTANCE:1
X-MICROSOFT-DISALLOW-COUNTER:FALSE
X-MS-OLK-ALLOWEXTERNCHECK:TRUE
X-MS-OLK-AUTOFILLLOCATION:FALSE
X-MS-OLK-CONFTYPE:0
BEGIN:VALARM
TRIGGER:-PT1440M
ACTION:DISPLAY
DESCRIPTION:Reminder
END:VALARM
END:VEVENT
END:VCALENDAR
