BEGIN:VCALENDAR
PRODID:-//Microsoft Corporation//Outlook 12.0 MIMEDIR//EN
VERSION:2.0
METHOD:PUBLISH
X-MS-OLK-FORCEINSPECTOROPEN:TRUE
BEGIN:VEVENT
CLASS:PUBLIC
CREATED:20150915T211856
DESCRIPTION:Art in Odd Places Number Festival on 14th St.\n\nCarolina Mayorga | Our Lady of 14th Street\n\nSee www.artinoddplaces.org/number/artists/mayorga-carolina for more info
DTEND:20141012T000000
DTSTAMP:20150915T211856
DTSTART:20141009T000000
LAST-MODIFIED:20150915T211856
LOCATION:http://maps.google.com/maps?q=40.741924698522055+-74.00781154632568\n\n<p class="p1"><span class="s1">At the Opening Reception on Friday, October 9. Three, five-minute apparitions at different locations on The High Line on Saturday, October 10 at 2pm, 4pm, and 6pm. Three, five-minute apparitions in Union Square on Sunday, October 11 at 2pm, 4pm, and 6pm.</span></p>

PRIORITY:5
SEQUENCE:0
SUMMARY;LANGUAGE=en-us:Carolina Mayorga | Our Lady of 14th Street
TRANSP:OPAQUE
UID:040000008200E00074C5B7101A82E008000000008062306C6261CA01000000000000000
X-MICROSOFT-CDO-BUSYSTATUS:BUSY
X-MICROSOFT-CDO-IMPORTANCE:1
X-MICROSOFT-DISALLOW-COUNTER:FALSE
X-MS-OLK-ALLOWEXTERNCHECK:TRUE
X-MS-OLK-AUTOFILLLOCATION:FALSE
X-MS-OLK-CONFTYPE:0
BEGIN:VALARM
TRIGGER:-PT1440M
ACTION:DISPLAY
DESCRIPTION:Reminder
END:VALARM
END:VEVENT
END:VCALENDAR
