BEGIN:VCALENDAR
PRODID:-//Microsoft Corporation//Outlook 12.0 MIMEDIR//EN
VERSION:2.0
METHOD:PUBLISH
X-MS-OLK-FORCEINSPECTOROPEN:TRUE
BEGIN:VEVENT
CLASS:PUBLIC
CREATED:20150922T220238
DESCRIPTION:Art in Odd Places Number Festival on 14th St.\n\nJesse Seegers | Potlatch Pavilion\n\nSee www.artinoddplaces.org/number/artists/seegers-jesse for more info
DTEND:20141012T000000
DTSTAMP:20150922T220238
DTSTART:20141007T000000
LAST-MODIFIED:20150928T014652
LOCATION:http://maps.google.com/maps?q=40.728331993969164+-73.97695541381836\n\n<p class="p1"><span class="s1">At Pedro Albizu Campos Plaza for the Opening Reception on Friday, October 9 from 5-8pm.</span></p>

PRIORITY:5
SEQUENCE:0
SUMMARY;LANGUAGE=en-us:Jesse Seegers | Potlatch Pavilion
TRANSP:OPAQUE
UID:040000008200E00074C5B7101A82E008000000008062306C6261CA01000000000000000
X-MICROSOFT-CDO-BUSYSTATUS:BUSY
X-MICROSOFT-CDO-IMPORTANCE:1
X-MICROSOFT-DISALLOW-COUNTER:FALSE
X-MS-OLK-ALLOWEXTERNCHECK:TRUE
X-MS-OLK-AUTOFILLLOCATION:FALSE
X-MS-OLK-CONFTYPE:0
BEGIN:VALARM
TRIGGER:-PT1440M
ACTION:DISPLAY
DESCRIPTION:Reminder
END:VALARM
END:VEVENT
END:VCALENDAR
