BEGIN:VCALENDAR
PRODID:-//Microsoft Corporation//Outlook 12.0 MIMEDIR//EN
VERSION:2.0
METHOD:PUBLISH
X-MS-OLK-FORCEINSPECTOROPEN:TRUE
BEGIN:VEVENT
CLASS:PUBLIC
CREATED:20150915T220004
DESCRIPTION:Art in Odd Places Number Festival on 14th St.\n\nSasha Sumner, Nick Porcaro, Ellen Levy | Free Slurpee, 7-Eleven Intervention\n\nSee www.artinoddplaces.org/number/artists/sumner-sasha-nick-porcaro-2 for more info
DTEND:20141010T000000
DTSTAMP:20150915T220004
DTSTART:20141008T000000
LAST-MODIFIED:20151021T023210
LOCATION:http://maps.google.com/maps?q=40.737857+-73.99720300000001\n\n<p class="p1"><span class="s1">7-Eleven at 103 West 14th Street, between Sixth and Seventh Avenues and 7-Eleven at 239 East 14 Street, between Second and Third Avenues. Thursday, October 8 and Friday, October 9 at 9pm.</span></p>

PRIORITY:5
SEQUENCE:0
SUMMARY;LANGUAGE=en-us:Sasha Sumner, Nick Porcaro, Ellen Levy | Free Slurpee, 7-Eleven Intervention
TRANSP:OPAQUE
UID:040000008200E00074C5B7101A82E008000000008062306C6261CA01000000000000000
X-MICROSOFT-CDO-BUSYSTATUS:BUSY
X-MICROSOFT-CDO-IMPORTANCE:1
X-MICROSOFT-DISALLOW-COUNTER:FALSE
X-MS-OLK-ALLOWEXTERNCHECK:TRUE
X-MS-OLK-AUTOFILLLOCATION:FALSE
X-MS-OLK-CONFTYPE:0
BEGIN:VALARM
TRIGGER:-PT1440M
ACTION:DISPLAY
DESCRIPTION:Reminder
END:VALARM
END:VEVENT
END:VCALENDAR
