BEGIN:VCALENDAR
PRODID:-//Microsoft Corporation//Outlook 12.0 MIMEDIR//EN
VERSION:2.0
METHOD:PUBLISH
X-MS-OLK-FORCEINSPECTOROPEN:TRUE
BEGIN:VEVENT
CLASS:PUBLIC
CREATED:20150915T220658
DESCRIPTION:Art in Odd Places Number Festival on 14th St.\n\nTim Thyzel | Umbrella Tumbleweed\n\nSee www.artinoddplaces.org/number/artists/thyzel-tim for more info
DTEND:20141012T000000
DTSTAMP:20150915T220658
DTSTART:20141007T000000
LAST-MODIFIED:20150915T220658
LOCATION:http://maps.google.com/maps?q=40.73849426596145+-73.99940550327301\n\n<p class="p1"><span class="s1">The sculpture will be placed next to the Duane Reade on the northeast corner of 14th Street and Seventh Avenue, in the space behind the 1/2/3 subway entrance. Throughout the festival, from 3-5pm.</span></p>

PRIORITY:5
SEQUENCE:0
SUMMARY;LANGUAGE=en-us:Tim Thyzel | Umbrella Tumbleweed
TRANSP:OPAQUE
UID:040000008200E00074C5B7101A82E008000000008062306C6261CA01000000000000000
X-MICROSOFT-CDO-BUSYSTATUS:BUSY
X-MICROSOFT-CDO-IMPORTANCE:1
X-MICROSOFT-DISALLOW-COUNTER:FALSE
X-MS-OLK-ALLOWEXTERNCHECK:TRUE
X-MS-OLK-AUTOFILLLOCATION:FALSE
X-MS-OLK-CONFTYPE:0
BEGIN:VALARM
TRIGGER:-PT1440M
ACTION:DISPLAY
DESCRIPTION:Reminder
END:VALARM
END:VEVENT
END:VCALENDAR
