BEGIN:VCALENDAR
PRODID:-//Microsoft Corporation//Outlook 12.0 MIMEDIR//EN
VERSION:2.0
METHOD:PUBLISH
X-MS-OLK-FORCEINSPECTOROPEN:TRUE
BEGIN:VEVENT
CLASS:PUBLIC
CREATED:20150915T221014
DESCRIPTION:Art in Odd Places Number Festival on 14th St.\n\nMatej Vakula | Manuals for Public Space\n\nSee www.artinoddplaces.org/number/artists/vakula-matej-2 for more info
DTEND:20141012T000000
DTSTAMP:20150915T221014
DTSTART:20141010T000000
LAST-MODIFIED:20151009T034347
LOCATION:http://maps.google.com/maps?q=40.74198972871025+-74.0077257156372\n\n<div><span class="aBn" tabindex="0" data-term="goog_204075295"><span class="aQJ">Saturday, October </span></span>10: Discussion from <span class="aBn" tabindex="0" data-term="goog_204075297"><span class="aQJ">3-5pm</span></span>. MfPS eBook launch (<em>Manuals For Public Space,</em> published by Lugubrious, New York) at 5pm.</div>
<div></div>
<div><span class="aBn" tabindex="0" data-term="goog_204075298"><span class="aQJ">Sunday, October 11</span></span>: Exhibition and workshop (in collaboration with Public Lab) on 14th Street under the High Line Park from <span class="aBn" tabindex="0" data-term="goog_204075299"><span class="aQJ">10:30am-1pm, and from</span></span> <span class="aBn" tabindex="0" data-term="goog_204075301"><span class="aQJ">3-5pm.</span></span></div>

PRIORITY:5
SEQUENCE:0
SUMMARY;LANGUAGE=en-us:Matej Vakula | Manuals for Public Space
TRANSP:OPAQUE
UID:040000008200E00074C5B7101A82E008000000008062306C6261CA01000000000000000
X-MICROSOFT-CDO-BUSYSTATUS:BUSY
X-MICROSOFT-CDO-IMPORTANCE:1
X-MICROSOFT-DISALLOW-COUNTER:FALSE
X-MS-OLK-ALLOWEXTERNCHECK:TRUE
X-MS-OLK-AUTOFILLLOCATION:FALSE
X-MS-OLK-CONFTYPE:0
BEGIN:VALARM
TRIGGER:-PT1440M
ACTION:DISPLAY
DESCRIPTION:Reminder
END:VALARM
END:VEVENT
END:VCALENDAR
