BEGIN:VCALENDAR
PRODID:-//Microsoft Corporation//Outlook 12.0 MIMEDIR//EN
VERSION:2.0
METHOD:PUBLISH
X-MS-OLK-FORCEINSPECTOROPEN:TRUE
BEGIN:VEVENT
CLASS:PUBLIC
CREATED:20150922T215517
DESCRIPTION:Art in Odd Places Number Festival on 14th St.\n\nSeldon Yuan | While We Are Here\n\nSee www.artinoddplaces.org/number/artists/yuan-seldon for more info
DTEND:20141012T000000
DTSTAMP:20150922T215517
DTSTART:20141007T000000
LAST-MODIFIED:20150928T173329
LOCATION:http://maps.google.com/maps?q=40.74140445472766+-74.00875568389893\n\n<p>Along 14th Street at the Hudson River, Seventh Avenue, Broadway, 4 Irving Plaza, 231 East 14th Street at Beauty Bar, and at Avenue A, B, and C. For more details, please refer to the map at the above URL, or on Yuan&#8217;s page on the RECALL website. Throughout the festival.</p>

PRIORITY:5
SEQUENCE:0
SUMMARY;LANGUAGE=en-us:Seldon Yuan | While We Are Here
TRANSP:OPAQUE
UID:040000008200E00074C5B7101A82E008000000008062306C6261CA01000000000000000
X-MICROSOFT-CDO-BUSYSTATUS:BUSY
X-MICROSOFT-CDO-IMPORTANCE:1
X-MICROSOFT-DISALLOW-COUNTER:FALSE
X-MS-OLK-ALLOWEXTERNCHECK:TRUE
X-MS-OLK-AUTOFILLLOCATION:FALSE
X-MS-OLK-CONFTYPE:0
BEGIN:VALARM
TRIGGER:-PT1440M
ACTION:DISPLAY
DESCRIPTION:Reminder
END:VALARM
END:VEVENT
END:VCALENDAR
