BEGIN:VCALENDAR
PRODID:-//Microsoft Corporation//Outlook 12.0 MIMEDIR//EN
VERSION:2.0
METHOD:PUBLISH
X-MS-OLK-FORCEINSPECTOROPEN:TRUE
BEGIN:VEVENT
CLASS:PUBLIC
CREATED:20151003T210134
DESCRIPTION:Art in Odd Places Number Festival on 14th St.\n\nDavid Antonio Cruz | How To Order A Chocolate Cake\n\nSee www.artinoddplaces.org/number/artists/cruz-david-antonio for more info
DTEND:20141011T000000
DTSTAMP:20151003T210134
DTSTART:20141010T000000
LAST-MODIFIED:20151003T210217
LOCATION:http://maps.google.com/maps?q=40.741859668270294+-74.0078330039978\n\n<p>On the High Line at 14th Street, facing the east side on Saturday, October 10 at 12pm. The performance will last twenty minutes.</p>

PRIORITY:5
SEQUENCE:0
SUMMARY;LANGUAGE=en-us:David Antonio Cruz | How To Order A Chocolate Cake
TRANSP:OPAQUE
UID:040000008200E00074C5B7101A82E008000000008062306C6261CA01000000000000000
X-MICROSOFT-CDO-BUSYSTATUS:BUSY
X-MICROSOFT-CDO-IMPORTANCE:1
X-MICROSOFT-DISALLOW-COUNTER:FALSE
X-MS-OLK-ALLOWEXTERNCHECK:TRUE
X-MS-OLK-AUTOFILLLOCATION:FALSE
X-MS-OLK-CONFTYPE:0
BEGIN:VALARM
TRIGGER:-PT1440M
ACTION:DISPLAY
DESCRIPTION:Reminder
END:VALARM
END:VEVENT
END:VCALENDAR
